BEGIN:VCALENDAR
VERSION:2.0
PRODID:-//Niederdeutsche Bühne Preetz bei Kiel - ECPv5.10.0//NONSGML v1.0//EN
CALSCALE:GREGORIAN
METHOD:PUBLISH
X-WR-CALNAME:Niederdeutsche Bühne Preetz bei Kiel
X-ORIGINAL-URL:https://nbpreetz.de
X-WR-CALDESC:Veranstaltungen für Niederdeutsche Bühne Preetz bei Kiel
BEGIN:VTIMEZONE
TZID:Europe/Berlin
BEGIN:DAYLIGHT
TZOFFSETFROM:+0100
TZOFFSETTO:+0200
TZNAME:CEST
DTSTART:20200329T010000
END:DAYLIGHT
BEGIN:STANDARD
TZOFFSETFROM:+0200
TZOFFSETTO:+0100
TZNAME:CET
DTSTART:20201025T010000
END:STANDARD
END:VTIMEZONE
BEGIN:VEVENT
DTSTART;TZID=Europe/Berlin:20200221T183000
DTEND;TZID=Europe/Berlin:20200221T193000
DTSTAMP:20260424T060605
CREATED:20200203T005055Z
LAST-MODIFIED:20200203T005148Z
UID:17266-1582309800-1582313400@nbpreetz.de
SUMMARY:Kulturnacht 2020: Kurze Szenen op Platt
DESCRIPTION:Unsere Jugendbühne zeigt bei der 21. Preetzer Kulturnacht im GZL am Markt ein paar „Kurze Szenen op Platt“. Kommt vorbei. \nAufführungen um 18:30 Uhr und um 19:30 Uhr
URL:https://nbpreetz.de/event/kulturnacht-2020-kurze-szenen-op-platt/
LOCATION:GZL – Gesundheitszentrum am Löwen\, Markt 10\, Preetz\, 24211\, Deutschland
ATTACH;FMTTYPE=image/jpeg:https://nbpreetz.de/wp-content/uploads/2020/02/DSC_8024.jpg
END:VEVENT
END:VCALENDAR