BEGIN:VCALENDAR
VERSION:2.0
PRODID:-//Niederdeutsche Bühne Preetz bei Kiel - ECPv5.10.0//NONSGML v1.0//EN
CALSCALE:GREGORIAN
METHOD:PUBLISH
X-WR-CALNAME:Niederdeutsche Bühne Preetz bei Kiel
X-ORIGINAL-URL:https://nbpreetz.de
X-WR-CALDESC:Veranstaltungen für Niederdeutsche Bühne Preetz bei Kiel
BEGIN:VTIMEZONE
TZID:Europe/Berlin
BEGIN:DAYLIGHT
TZOFFSETFROM:+0100
TZOFFSETTO:+0200
TZNAME:CEST
DTSTART:20200329T010000
END:DAYLIGHT
BEGIN:STANDARD
TZOFFSETFROM:+0200
TZOFFSETTO:+0100
TZNAME:CET
DTSTART:20201025T010000
END:STANDARD
END:VTIMEZONE
BEGIN:VEVENT
DTSTART;TZID=Europe/Berlin:20200424T200000
DTEND;TZID=Europe/Berlin:20200424T200000
DTSTAMP:20260424T060023
CREATED:20191020T202705Z
LAST-MODIFIED:20200402T115701Z
UID:16873-1587758400-1587758400@nbpreetz.de
SUMMARY:Abgesagt: Lüttje Eheverbreken
DESCRIPTION:Gilles hat durch einen mysteriösen Unfall (war es ein Unfall?) sein Gedächtnis verloren. Seine Ehefrau Lisa\, mit der er seit fünzehn Jahren verheiratet ist\, kehrt mit ihm in die gemeinsame Wohnung zurück. Ist es wirklich seine Wohnung? Ist Lisa wirklich seine Frau? Gilles kann sich (scheinbar?) an nichts erinnern. Wer ist er? Wer ist Lisa? Was für eine Ehe führten sie? Mühsam versucht er seine Vergangenheit\, sein Leben zu rekonstruieren. Beunruhigt und amüsiert zugleich lauscht er dem wurdervollen Portrait\, das Lisa von ihm\, ihrem Zusammenleben und ihrer gemeinsamen Liebe zeichnet. Doch wenn Lisa nun lügen würde? Ist er tatsächlich so\, wie sie ihn beschreibt. waren sie tatsächlich so verliebt\, wie sie sagt\, oder war es im Gegenteil eine Haßliebe\, die sie verbindet? Oder spielt gar Gilles falsch? Weiß er mehr\, als er zugibt? \n  \n\n„Kleine Eheverbrechen“ ist ein faszinierendes Vexierspiel\, in dem sich zwei Personen einen erbitterten Schlagabtausch liefern\, in dem in überraschenden Theatercoups die Situationen immer wieder umkippen und in neuen Konstellationen münden\, die das Vorangegangene auf den Kopf stellen\n\n\nEine schwarze Ehekomödie von Éric-Emmanuel Schmitt\nins Deutsche übersetzt von Anette & Paul Bäcker\nNiederdeutsch von Arnold Preuß\n\nVerlag: Karl Mahnke\, Verden\n\n\n\nRegie: Karen Dietmair
URL:https://nbpreetz.de/event/luettje-eheverbreken-1/
LOCATION:Friedrich Schiller Gymnasium\, Aula\, Ihlsol 10-12\, Preetz\, 24211\, Deutschland
CATEGORIES:Aufführungen
ATTACH;FMTTYPE=image/jpeg:https://nbpreetz.de/wp-content/uploads/2019/07/Lütje-eheverbreken.jpg
END:VEVENT
END:VCALENDAR