BEGIN:VCALENDAR
VERSION:2.0
PRODID:-//Niederdeutsche Bühne Preetz bei Kiel - ECPv5.10.0//NONSGML v1.0//EN
CALSCALE:GREGORIAN
METHOD:PUBLISH
X-WR-CALNAME:Niederdeutsche Bühne Preetz bei Kiel
X-ORIGINAL-URL:https://nbpreetz.de
X-WR-CALDESC:Veranstaltungen für Niederdeutsche Bühne Preetz bei Kiel
BEGIN:VTIMEZONE
TZID:Europe/Berlin
BEGIN:DAYLIGHT
TZOFFSETFROM:+0100
TZOFFSETTO:+0200
TZNAME:CEST
DTSTART:20240331T010000
END:DAYLIGHT
BEGIN:STANDARD
TZOFFSETFROM:+0200
TZOFFSETTO:+0100
TZNAME:CET
DTSTART:20241027T010000
END:STANDARD
END:VTIMEZONE
BEGIN:VEVENT
DTSTART;TZID=Europe/Berlin:20240217T170000
DTEND;TZID=Europe/Berlin:20240217T170000
DTSTAMP:20260423T170102
CREATED:20231221T203019Z
LAST-MODIFIED:20231221T203019Z
UID:20950-1708189200-1708189200@nbpreetz.de
SUMMARY:Nichts. Was im Leben wichtig ist.
DESCRIPTION:Eine kleine fiktive Stadt\, irgendwo in Dänemark. Ein ganz normaler erster Schultag nach den langen Sommerferien. Ganz normal? Nicht ganz\, denn plötzlich steht einer auf und ruft: \n„Nichts bedeutet irgendetwas\, deshalb lohnt es sich nicht\, irgendetwas zu tun.“ Und damit rennt Pierre-Anthon aus dem Klassenzimmer\, steigt auf einen Baum und kommt nicht mehr runter. \nDas kann nicht sein\, denken Pierre-Anthons Mitschüler und Mitschülerinnen.\nAlles hat eine Bedeutung. Sie muss nur gefunden und geopfert werden. In einem leeren Sägewerk sammeln sie auf dem Berg der Bedeutung immer mehr Persönliches\, um zu beweisen\, dass es etwas gibt\, wofür es sich zu leben lohnt.\nNur\, was hat wirklich Bedeutung? Wie groß muss das Opfer sein?\nUm diese Frage zu beantworten\, geraten die jungen Leute immer mehr in eine Spirale des Unfassbaren. \nDas Nichts Ensemble bestehend aus 5 jungen Schauspielern und Schauspielerinnen – im Alter zwischen 11 und 16 Jahren – probt seit September einmal wöchentlich im Studio der Niederdeutschen Bühne. \nPremiere:    Samstag\, 10. Februar 2024\, 17:00 Uhr \n  \n\n\n\n— Spielzeit 2023/2024 —\n \nnach dem Roman von Janne Teller \nBühnenbearbeitung von Andreas Erdmann nach einer Übersetzung von Sigrid C. Engeler \nLeitung: Christina Dobirr\nEs spielen Schauspieler*innen aus unserer Jugendbühne\n \nDieses Jugendstück in hochdeutscher Sprache eignet sich für alle ab 12 Jahren \n\n\n\n 
URL:https://nbpreetz.de/event/nichts-was-im-leben-wichtig-ist-3/
LOCATION:Friedrich-Ebert-Halle\, Lohmühlenweg 34\, Preetz\, 24211\, Deutschland
CATEGORIES:Aufführungen
ATTACH;FMTTYPE=image/jpeg:https://nbpreetz.de/wp-content/uploads/2023/12/photo-output-scaled.jpeg
END:VEVENT
END:VCALENDAR